BEGIN:VCALENDAR
VERSION:2.0
PRODID:-//Tukios.com/
BEGIN:VEVENT
UID:7fc6c2da-134b-468d-9f72-8a8bea35a714@www.gotschallfuneralhome.com
DTSTAMP:20260421T193750Z
DTSTART:20260424T210000Z
DTEND:20260424T220000Z
SUMMARY:Burial
DESCRIPTION:
URL:https://www.gotschallfuneralhome.com/obituaries/ricky-eick
LOCATION: Arrow Road Northwest  Minerva OH 
GEO:40.7152278;-81.1019626
END:VEVENT
END:VCALENDAR