BEGIN:VCALENDAR
VERSION:2.0
PRODID:-//Tukios.com/
BEGIN:VEVENT
UID:57b77403-1f8b-44be-95f1-0e2da9936929@www.gotschallfuneralhome.com
DTSTAMP:20260421T193718Z
DTSTART:20260424T190000Z
DTEND:20260424T210000Z
SUMMARY:Visitation
DESCRIPTION:
URL:https://www.gotschallfuneralhome.com/obituaries/ricky-eick
LOCATION:Gotschall-Hutchison Funeral Home 206 East Lincolnway  Minerva OH 
	44657
GEO:40.7303973;-81.1022315
END:VEVENT
END:VCALENDAR