BEGIN:VCALENDAR
VERSION:2.0
PRODID:-//Tukios.com/
BEGIN:VEVENT
UID:bba0de7e-ce18-4fd9-89ea-6da786e803f1@www.gotschallfuneralhome.com
DTSTAMP:20260420T212657Z
DTSTART:20260424T220000Z
DTEND:20260424T230000Z
SUMMARY:Funeral Service
DESCRIPTION:
URL:https://www.gotschallfuneralhome.com/obituaries/carol-strait
LOCATION: 7886 Ravenna Avenue Southeast  Waynesburg OH 44688
GEO:40.6899469;-81.256039
END:VEVENT
END:VCALENDAR