BEGIN:VCALENDAR
VERSION:2.0
PRODID:-//Tukios.com/
BEGIN:VEVENT
UID:ac1cd792-f480-4699-b31a-92ae288cb708@www.gotschallfuneralhome.com
DTSTAMP:20260420T212446Z
DTSTART:20260424T210000Z
DTEND:20260424T220000Z
SUMMARY:Visitation
DESCRIPTION:
URL:https://www.gotschallfuneralhome.com/obituaries/carol-strait
LOCATION: 7886 Ravenna Avenue Southeast  Waynesburg OH 44688
GEO:40.6899469;-81.256039
END:VEVENT
END:VCALENDAR