BEGIN:VCALENDAR
VERSION:2.0
PRODID:-//Tukios.com/
BEGIN:VEVENT
UID:3b1451d1-44b0-44e8-8176-a0d02cfa6aa2@www.gotschallfuneralhome.com
DTSTAMP:20260423T045833Z
DTSTART:20260426T180000Z
DTEND:20260426T190000Z
SUMMARY:Funeral Service
DESCRIPTION:
URL:https://www.gotschallfuneralhome.com/obituaries/anna-yacklin
LOCATION:Gotschall-Hutchison Funeral Home 206 East Lincolnway  Minerva OH 
	44657
GEO:40.7303973;-81.1022315
END:VEVENT
END:VCALENDAR