BEGIN:VCALENDAR
VERSION:2.0
PRODID:-//Tukios.com/
BEGIN:VEVENT
UID:a07d01f4-91d5-4ddb-9373-b80c1a3a31fc@www.gotschallfuneralhome.com
DTSTAMP:20260423T045731Z
DTSTART:20260426T160000Z
DTEND:20260426T180000Z
SUMMARY:Visitation
DESCRIPTION:
URL:https://www.gotschallfuneralhome.com/obituaries/anna-yacklin
LOCATION:Gotschall-Hutchison Funeral Home 206 East Lincolnway  Minerva OH 
	44657
GEO:40.7303973;-81.1022315
END:VEVENT
END:VCALENDAR